BEGIN:VCALENDAR
VERSION:2.0
PRODID:-//wp-events-plugin.com//7.2.3.1//EN
TZID:America/New_York
X-WR-TIMEZONE:America/New_York
BEGIN:VEVENT
UID:134@lincolnconservation.org
DTSTART;TZID=America/New_York:20230408T130000
DTEND;TZID=America/New_York:20230408T143000
DTSTAMP:20230315T142408Z
URL:https://lincolnconservation.org/events/2023-vernal-pool-exploration/
SUMMARY:2023 Vernal Pool Exploration
DESCRIPTION:Join us for an exploration of one of Lincoln’s woodland verna
 l pools! Learn about the special ecology of these ponds and search for fro
 gs\, salamanders\,  fairy shrimp and more! Free\, all are welcome. Great 
 for kids and adults. Space is limited and registration is required. Sign u
 ps will open in mid March. \n\nLocation details will be provided upon reg
 istration. The program will take place in Lincoln\, MA.\n\nThis program is
  led by Matt Burne\, Senior Ecologist at BSC Group and Vice President of t
 he Vernal Pool Association\, and Will Leona\, Lincoln's Conservation Rang
 er.\n\nThis program is offered with the support of LLCT\, BSC Group\, The 
 Town of Lincoln Conservation Department\, The Walden Woods Project\, and T
 he Vernal Pool Association. \nRegister Here.\n&nbsp\;\n\n&nbsp\;
ATTACH;FMTTYPE=image/jpeg:https://lincolnconservation.org/wp-content/uploa
 ds/2023/02/IMG_1070.jpg
CATEGORIES:Guided Walk
END:VEVENT
BEGIN:VTIMEZONE
TZID:America/New_York
X-LIC-LOCATION:America/New_York
BEGIN:DAYLIGHT
DTSTART:20230312T030000
TZOFFSETFROM:-0500
TZOFFSETTO:-0400
TZNAME:EDT
END:DAYLIGHT
END:VTIMEZONE
END:VCALENDAR