BEGIN:VCALENDAR
VERSION:2.0
PRODID:-//wp-events-plugin.com//7.2.3.1//EN
TZID:America/New_York
X-WR-TIMEZONE:America/New_York
BEGIN:VEVENT
UID:94@lincolnconservation.org
DTSTART;TZID=America/New_York:20211017T093000
DTEND;TZID=America/New_York:20211017T133000
DTSTAMP:20210824T191948Z
URL:https://lincolnconservation.org/events/9th-annual-scarecrow-classic-5k
 /
SUMMARY:9th Annual Scarecrow Classic 5K
DESCRIPTION:The Scarecrow Classic 5K is celebrating its 9th year running! T
 his wonderful community event benefits Lincoln Land Conservation Trust\, s
 upporting our land conservation and stewardship mission\, as well as our e
 ducational programming.\n\nThis year we are offering an in-person run and 
 a virtual option. Our highest priority is the safety of the community. The
  in-person run will be on Sunday\, October 17th. Virtual participants are 
 welcome to run a 5K anytime in the week leading up to Race Day and share t
 heir results.\n\nNew this year\, LLCT will offer packet pick up on October
  16th from 2-4 P.M. at Lincoln Station.\n\nA big shout out as well to our 
 community sponsors. Their support helps make this race\, and LLCT's missio
 n a success! Check out  our sponsors\, and when you patronize them\, let 
 them know you heard about them through us!\n\n&nbsp\;\nFor more details ab
 out the race\, including safety protocols\, please visit our website Scare
 crowClassic5k.com.\nRegistration is open! 
ATTACH;FMTTYPE=image/jpeg:https://lincolnconservation.org/wp-content/uploa
 ds/2021/08/2021-Scarecrow5KLogo_WEB.jpg
CATEGORIES:Guided Walk
LOCATION:Lincoln Land Conservation Trust\, 145 Lincoln Road\, Lincoln\, MA\
 , 01773\, United States
GEO:42.4150148;-71.32528780000001
X-APPLE-STRUCTURED-LOCATION;VALUE=URI;X-ADDRESS=145 Lincoln Road\, Lincoln\
 , MA\, 01773\, United States;X-APPLE-RADIUS=100;X-TITLE=Lincoln Land Conse
 rvation Trust:geo:42.4150148,-71.32528780000001
END:VEVENT
BEGIN:VTIMEZONE
TZID:America/New_York
X-LIC-LOCATION:America/New_York
BEGIN:DAYLIGHT
DTSTART:20210314T030000
TZOFFSETFROM:-0500
TZOFFSETTO:-0400
TZNAME:EDT
END:DAYLIGHT
END:VTIMEZONE
END:VCALENDAR