BEGIN:VCALENDAR
VERSION:2.0
PRODID:-//wp-events-plugin.com//7.2.3.1//EN
TZID:America/New_York
X-WR-TIMEZONE:America/New_York
BEGIN:VEVENT
UID:13@lincolnconservation.org
DTSTART;TZID=America/New_York:20180422T073000
DTEND;TZID=America/New_York:20180513T093000
DTSTAMP:20180509T192023Z
URL:https://lincolnconservation.org/events/annual-spring-birding-in-lincol
 n-series-from-april-to-may/
SUMMARY:Annual Spring Birding in Lincoln Series from April through May
DESCRIPTION:Find out why birders love early mornings in spring as you learn
  to identify birds by sight and song\, and explore some birding "hot spots
 " in Lincoln. Join us for any or all of the walks in this four part series
  on Sundays April 22\, April 29\, May 6 and May 13 from 7:30 to 9:30 AM.
  Free. All are welcome.\n\nApril 22. Harrington and Twin Pond trails (Ston
 y Brook South). Park in the turnout on Rte. 117 on the Weston town line.\n
 April 29. Lindentree Farm and fields behind St. Anne’s Church. Park on O
 ld Concord Road near the Mt. Misery kiosk.\nMay 6. Baker Bridge Fields. Pa
 rk at the Food Project on Rte 126.\nMay 13. Ricci Fields. Park along Bedfo
 rd Road close to Rte 2A. Look for the Ricci Fields sign.\n\nAt least two o
 f the following local birding experts will lead each walk: Vin Durso\, Nan
 cy Hammond\, Norman Levey\, Gwyn Loud\, and Nancy Soulette.\n\nDress for w
 eather conditions\, including wet grass and cool early morning temperature
 s. Please bring binoculars\, if you have them!\n\nWalks will not take plac
 e if it is raining. Call the LLCT’s general line at 781-259-9251 after 6
 AM the morning of the walk for direction.\n\n\n\n&nbsp\;\n\n&nbsp\;
ATTACH;FMTTYPE=image/jpeg:https://lincolnconservation.org/wp-content/uploa
 ds/2018/03/ManWithBinoculars_LLCTTrailMarkerInBackground.jpg
CATEGORIES:Guided Walk
END:VEVENT
BEGIN:VTIMEZONE
TZID:America/New_York
X-LIC-LOCATION:America/New_York
BEGIN:DAYLIGHT
DTSTART:20180311T030000
TZOFFSETFROM:-0500
TZOFFSETTO:-0400
TZNAME:EDT
END:DAYLIGHT
END:VTIMEZONE
END:VCALENDAR