BEGIN:VCALENDAR
VERSION:2.0
PRODID:-//wp-events-plugin.com//7.2.3.1//EN
TZID:America/New_York
X-WR-TIMEZONE:America/New_York
BEGIN:VEVENT
UID:50@lincolnconservation.org
DTSTART;TZID=America/New_York:20190924T190000
DTEND;TZID=America/New_York:20190924T203000
DTSTAMP:20190725T163151Z
URL:https://lincolnconservation.org/events/bird-feeding-101-feeding-and-ca
 ring-for-birds-in-an-era-of-climate-change/
SUMMARY:Bird Feeding 101: Feeding and Caring for Birds in an Era of Climate
  Change
DESCRIPTION:Free. All are Welcome.\n\n&nbsp\;\nJoin LLCT and Tia Pinney at 
 Bemis Hall for an evening program all about bird feeding. Learn what the 
 best practices for bird feeding are and how to avoid potential pitfalls. T
 ia will cover everything from type of feeder\, seeds for different birds\,
  when to feed\, and more!\nTia will also speak about the benefits of creat
 ing diverse habitats in the yard that enhance local ecosystems\, help miti
 gate the impacts of climate change\, and attract birds for us to enjoy.\nT
 ia Pinney\nTia Pinney has worked at Mass Audubon’s Drumlin Farm Wildlife
  Sanctuary for 25 years. Currently\, she is the senior\nnaturalist and eco
 logical management and adult program coordinators. Tia is involved in all
  aspects of the sanctuary’s educational programming and she is currently
  developing an ecological stewardship plan for the sanctuary. Prior to wo
 rking at Drumlin Farm\, she was a high school science teacher and a fabric
  artist. Tia grew up on a dairy farm in Connecticut and working at Drumlin
  Farm has been her dream job combining her roots in farming and her love o
 f science and teaching.\n&nbsp\;
ATTACH;FMTTYPE=image/jpeg:https://lincolnconservation.org/wp-content/uploa
 ds/2019/06/red-headed-woodpecker.jpg
CATEGORIES:Talk
LOCATION:Bemis Hall\, 15 Bedford Road\, Lincoln\, MA\, 01773\, United State
 s
GEO:42.4277146;-71.3024294
X-APPLE-STRUCTURED-LOCATION;VALUE=URI;X-ADDRESS=15 Bedford Road\, Lincoln\,
  MA\, 01773\, United States;X-APPLE-RADIUS=100;X-TITLE=Bemis Hall:geo:42.4
 277146,-71.3024294
END:VEVENT
BEGIN:VTIMEZONE
TZID:America/New_York
X-LIC-LOCATION:America/New_York
BEGIN:DAYLIGHT
DTSTART:20190310T030000
TZOFFSETFROM:-0500
TZOFFSETTO:-0400
TZNAME:EDT
END:DAYLIGHT
END:VTIMEZONE
END:VCALENDAR