BEGIN:VCALENDAR
VERSION:2.0
PRODID:-//wp-events-plugin.com//7.2.3.1//EN
TZID:America/New_York
X-WR-TIMEZONE:America/New_York
BEGIN:VEVENT
UID:271@lincolnconservation.org
DTSTART;TZID=America/New_York:20250927T160000
DTEND;TZID=America/New_York:20250927T180000
DTSTAMP:20250902T193152Z
URL:https://lincolnconservation.org/events/celebrating-the-nature-link-pro
 ject-annual-meeting-2025/
SUMMARY:Celebrating The Nature Link Project: Annual Meeting 2025
DESCRIPTION:Join Rural Land Foundation\, Farrington Nature Linc\, and Linco
 ln Land Conservation Trust in a celebration of the Nature Link Project at 
 LLCT's Annual Meeting.\nSaturday\, September 27th\n4-6pm\nFood\, drink\, a
 nd festivity at Farrington Nature Linc (295 Cambridge Turnpike\, Lincoln\,
  MA)\n\n3:30pm Arrive early for an optional trail walk\n4:00-4:45pm Drinks
  and appetizers\n4:45-5:00pm LLCT Annual Business Meeting and Election of 
 Trustees by LLCT Members\n5:00-5:30pm Remarks from Farrington Nature Linc 
 Staff and Senior Youth Counselors\n5:30-6:00pm S'mores! and additional tha
 nk you to donors\n\nAll are welcome. Special thanks to the Nature Link Pro
 ject Donors\, LLCT Members\, and Farrington Nature Linc supporters. LLCT m
 embers will be invited to vote during the business meeting.\n\nPlease RSVP
  using this form by September 19th. Event will be rain or shine\, outside 
 under a tent.\n\nhttps://docs.google.com/forms/d/e/1FAIpQLSf7GwT74FFWQjLPU
 EqqXLs1drfZMuQgXzT14dsoaxRHyRO0tg/viewform?usp=dialog
ATTACH;FMTTYPE=image/jpeg:https://lincolnconservation.org/wp-content/uploa
 ds/2025/08/1.png
CATEGORIES:Special Event
END:VEVENT
BEGIN:VTIMEZONE
TZID:America/New_York
X-LIC-LOCATION:America/New_York
BEGIN:DAYLIGHT
DTSTART:20250309T030000
TZOFFSETFROM:-0500
TZOFFSETTO:-0400
TZNAME:EDT
END:DAYLIGHT
END:VTIMEZONE
END:VCALENDAR