BEGIN:VCALENDAR
VERSION:2.0
PRODID:-//wp-events-plugin.com//7.2.3.1//EN
TZID:America/New_York
X-WR-TIMEZONE:America/New_York
BEGIN:VEVENT
UID:182@lincolnconservation.org
DTSTART;TZID=America/New_York:20241213T130000
DTEND;TZID=America/New_York:20241213T150000
DTSTAMP:20240808T172709Z
URL:https://lincolnconservation.org/events/december-2024-stewardship-work-
 day/
SUMMARY:December 2024 Stewardship Work Day
DESCRIPTION:Join the Conservation Department and Lincoln Land Conservation 
 Trust for an afternoon of invasive plant education\, camaraderie\, and hab
 itat restoration.\n\nFriday 12.13.2024\, 1:00PM – 3:00PM\nBergen-Culver:
  This workday will focus on clearing glossy buckthorn from the forest unde
 rstory in an effort to encourage the return of native vegetation.\n\nTo RS
 VP\, please use this link https://tinyurl.com/2y8z4jju. Meeting location\,
  event details\, and waiver will be emailed to registrants prior to the wo
 rkday. Children under 18 must be accompanied by an adult. For questions pl
 ease contact conservation@lincolntown.org or 781-259-2612.
ATTACH;FMTTYPE=image/jpeg:https://lincolnconservation.org/wp-content/uploa
 ds/2023/05/group-pic-scaled.jpg
CATEGORIES:Stewardship Work Day
END:VEVENT
BEGIN:VTIMEZONE
TZID:America/New_York
X-LIC-LOCATION:America/New_York
BEGIN:STANDARD
DTSTART:20241103T010000
TZOFFSETFROM:-0400
TZOFFSETTO:-0500
TZNAME:EST
END:STANDARD
END:VTIMEZONE
END:VCALENDAR