BEGIN:VCALENDAR
VERSION:2.0
PRODID:-//wp-events-plugin.com//7.2.3.1//EN
TZID:America/New_York
X-WR-TIMEZONE:America/New_York
BEGIN:VEVENT
UID:165@lincolnconservation.org
DTSTART;TZID=America/New_York:20240328T193000
DTEND;TZID=America/New_York:20240328T203000
DTSTAMP:20240307T192917Z
URL:https://lincolnconservation.org/events/diversity-underground/
SUMMARY:Diversity Underground
DESCRIPTION:Diversity Underground: Ecological Gardening with Groundcovers f
 or Soil Health and Climate Resilience\n\nA free\, zoom lecture. Register h
 ere: https://us02web.zoom.us/meeting/register/tZUude2vrjMuG9LxY0v-uxDncTsU
 lIhbxjg0\n\nSoil is alive. Just a teaspoon of soil has a billion bacteria\
 , a million fungi\, and thousands of other soil organisms like protozoa an
 d nematodes. The diversity of these soil organisms matters. Soil biodivers
 ity is key to healthy soil that promotes plant growth\, stores and filters
  water\, and captures carbon from the atmosphere.\n\nPlanting groundcovers
  in Spring is the perfect complement to ecological gardening practices lik
 e No Mow May that promote above and belowground biodiversity. Lincoln resi
 dent and soil microbial ecologist Rachel Neurath\, PhD\, will uncover the 
 importance of groundcover plants to enhance soil health\, biodiversity\, a
 nd climate resilience. Her talk will help lay the foundation for the upcom
 ing Garden Club talk on Native Lawn Alternatives with Alexis Doshas of the
  Native Plant Trust\, on April 3rd at 7pm.\n\n&nbsp\;
ATTACH;FMTTYPE=image/jpeg:https://lincolnconservation.org/wp-content/uploa
 ds/2023/01/fervidus-on-prunella-pfp-2022-2.jpg
CATEGORIES:Talk
END:VEVENT
BEGIN:VTIMEZONE
TZID:America/New_York
X-LIC-LOCATION:America/New_York
BEGIN:DAYLIGHT
DTSTART:20240310T030000
TZOFFSETFROM:-0500
TZOFFSETTO:-0400
TZNAME:EDT
END:DAYLIGHT
END:VTIMEZONE
END:VCALENDAR