BEGIN:VCALENDAR
VERSION:2.0
PRODID:-//wp-events-plugin.com//7.2.3.1//EN
TZID:America/New_York
X-WR-TIMEZONE:America/New_York
BEGIN:VEVENT
UID:123@lincolnconservation.org
DTSTART;TZID=America/New_York:20220918T140000
DTEND;TZID=America/New_York:20220918T163000
DTSTAMP:20220907T114713Z
URL:https://lincolnconservation.org/events/gardening-for-climate-change-se
 ed-saving-workshops/
SUMMARY:Gardening for Climate Change: Seed Saving Workshops
DESCRIPTION:Join us for a Fall series: Gardening for a Changing Climate. Th
 ese workshops are part of the Healthy Soils Series\, a joint collaboration
  of the Lincoln Land Conservation Trust\, Lincoln Common Ground\, and Codm
 an Community Farms.\n\nThe series will kick off on September 18th with a S
 eed Saving Workshop. Join us for one or both workshops with LLCT and Codma
 n Farm.\n\n2:00-3:00 P.M. Community Seed Saving: Giving Nature a Boost. Me
 et us at the LLCT Pollinator Meadow to collect seeds from a handful of nat
 ive perennials. Learn how to sow them this fall/winter. Participants are e
 ncouraged to plant some in their own space\, and to join LLCT in a plantin
 g day next spring.\n\n3:00-3:30 P.M.  Break. Head to Codman Farm for snac
 ks and a quick break between workshops.\n\n3:30-4:30 P.M. The Seed Garden:
  Heirloom Food and Flowers. Meet at the Codman Farm greenhouses and learn 
 the how and why of seed saving for your own heirloom crops\, how to plan a
  seed garden\, and how to support seed saving efforts.\nThese workshops ar
 e free and open to all. Space is limited\, so sign up here!  Sign up for 
 one or both workshops.\nIf you are able to\, please consider donating to h
 elp our support these education efforts to improve our soils and land stew
 ardship as a community! Please note that registration for workshops is sep
 arate from donations. Make a donation here.\n\n\n\n&nbsp\;\n\n&nbsp\;\n\n&
 nbsp\;\n\n&nbsp\;\n\n&nbsp\;\n\n&nbsp\;\n\n&nbsp\;\n\n&nbsp\;\n\n&nbsp\;\n
 \n&nbsp\;\n\n&nbsp\;\n\n&nbsp\;\n\n&nbsp\;\n\n&nbsp\;\n\n&nbsp\;\n\nStay t
 uned for registration information for the upcoming workshops on 9/25\, 10/
 16\, and 10/30!\n\n
ATTACH;FMTTYPE=image/jpeg:https://lincolnconservation.org/wp-content/uploa
 ds/2022/09/seed-saving-no-reg-info.png
CATEGORIES:Guided Walk
END:VEVENT
BEGIN:VTIMEZONE
TZID:America/New_York
X-LIC-LOCATION:America/New_York
BEGIN:DAYLIGHT
DTSTART:20220313T030000
TZOFFSETFROM:-0500
TZOFFSETTO:-0400
TZNAME:EDT
END:DAYLIGHT
END:VTIMEZONE
END:VCALENDAR