BEGIN:VCALENDAR
VERSION:2.0
PRODID:-//wp-events-plugin.com//7.2.3.1//EN
TZID:America/New_York
X-WR-TIMEZONE:America/New_York
BEGIN:VEVENT
UID:109@lincolnconservation.org
DTSTART;TZID=America/New_York:20220402T103000
DTEND;TZID=America/New_York:20220402T120000
DTSTAMP:20220324T124958Z
URL:https://lincolnconservation.org/events/healthy-soils-workshop-series-p
 utting-soil-to-the-test/
SUMMARY:Healthy Soils Workshop Series: Putting Soil to the Test
DESCRIPTION:In this second class of our Healthy Soils Series\, we’ll be g
 etting our hands dirty — literally! This workshop will be outside at Cod
 man Farm as we learn how to take soil samples\, discuss soil pH\, see how 
 water flows in different soil structures\, and much more! There will be ac
 tivities for the whole family. Join us!\n\nSign up HERE for April 2nd!\nPl
 ease note: all participants must fill out THIS WAIVER. Parents\, please fi
 ll out on behalf of your child(ren). Please bring a completed copy on Apri
 l 2nd. \n*This workshop will be rain or shine at the farm — we will find
  indoor spaces if necessary due to rain. Please come dressed appropriately
  &amp\; with footwear that can get muddy. We also ask that folks park alon
 g the road. Thank you!\nPlease consider donating to support this and futur
 e workshops. Your financial support will help purchase supplies\, soil tes
 ting kits\, educator fees\, and publicity. If you are unable to contribute
  at this time\, please still join us — learning about soils can support 
 healthy soils\, too!\nMore info\, registration\, and donation form: https:
 //codmancommunityfarms.org/upcoming-events/2022/2/28/uncovering-soil-onlin
 e-workshop-9ep89 
ATTACH;FMTTYPE=image/jpeg:https://lincolnconservation.org/wp-content/uploa
 ds/2022/02/save-the-date-soils-wkshop-web-size.png
CATEGORIES:Guided Walk
END:VEVENT
BEGIN:VTIMEZONE
TZID:America/New_York
X-LIC-LOCATION:America/New_York
BEGIN:DAYLIGHT
DTSTART:20220313T030000
TZOFFSETFROM:-0500
TZOFFSETTO:-0400
TZNAME:EDT
END:DAYLIGHT
END:VTIMEZONE
END:VCALENDAR