BEGIN:VCALENDAR
VERSION:2.0
PRODID:-//wp-events-plugin.com//7.2.3.1//EN
TZID:America/New_York
X-WR-TIMEZONE:America/New_York
BEGIN:VEVENT
UID:105@lincolnconservation.org
DTSTART;TZID=America/New_York:20220215T180000
DTEND;TZID=America/New_York:20220215T200000
DTSTAMP:20220202T133811Z
URL:https://lincolnconservation.org/events/kiss-the-ground-film-screening-
 and-expert-panel/
SUMMARY:Kiss the Ground Film Screening and Expert Panel
DESCRIPTION:\n\n&nbsp\;\n\nDo you want to feel hopeful and empowered about 
 climate change and our future? Join Codman Community Farms\, Mothers Out F
 ront\, and LLCT for the kick off of the Healthy Soil Series. Kiss the Grou
 nd is a fantastic inspirational look at the importance of healthy\, living
  soils.\n\nFree. Registration required. Participants will receive a link t
 o watch the film 72 hrs before the panel. The film will also be screened a
 t 6pm on February 15th. The expert panel will begin promptly at 7pm. Rylan
 d Engelhart\, co-Found of _Kiss the Ground_\, Mohammed Hannan\, owner of H
 annan Agro Farms\, Rachel Neurath\, PhD Soil Microbial Ecologist\, and Pet
 e Lowy\, Manager of Codman Community Farms will share their expertise and 
 answer audience questions.\n\nThis film screening is the kick off for a se
 ries of exciting soil health workshops taking place in Lincoln this spring
 \, so stay tuned!\nRegister Here.\n&nbsp\;\n\n&nbsp\;\n\n&nbsp\;\n\n&nbsp\
 ;\n\n&nbsp\;
ATTACH;FMTTYPE=image/jpeg:https://lincolnconservation.org/wp-content/uploa
 ds/2022/01/KTG-square-promo.png
CATEGORIES:Guided Walk
END:VEVENT
BEGIN:VTIMEZONE
TZID:America/New_York
X-LIC-LOCATION:America/New_York
BEGIN:STANDARD
DTSTART:20211107T010000
TZOFFSETFROM:-0400
TZOFFSETTO:-0500
TZNAME:EST
END:STANDARD
END:VTIMEZONE
END:VCALENDAR