BEGIN:VCALENDAR
VERSION:2.0
PRODID:-//wp-events-plugin.com//7.2.3.1//EN
TZID:America/New_York
X-WR-TIMEZONE:America/New_York
BEGIN:VEVENT
UID:86@lincolnconservation.org
DTSTART;TZID=America/New_York:20210411T140000
DTEND;TZID=America/New_York:20210411T150000
DTSTAMP:20210323T153517Z
URL:https://lincolnconservation.org/events/owls-up-close/
SUMMARY:Owls up Close
DESCRIPTION:\n\n\n\n\n\n\n\n\n\n\n\n\n\n\n\n\nJoin LLCT and Farrington Natu
 re Linc for "Owls Up Close"\, a virtual version of Eyes on Owls! Meet six 
 owls up close through the camera lens and enjoy a hooting lesson.\n\n\n\n\
 n\n\n\n\n\n\n\n\nThis is a family-friendly program and all are welcome. A 
 Zoom link will be provided in advance of the program to registered attende
 es.\n\nNaturalists Marcia and Mark Wilson will introduce everyone to six l
 ive owls up close and personal\, followed by some owl call practice with a
  hooting lesson! Marcia and Mark will highlight the owls’ unique adaptat
 ions\, habitats and behaviors in the wild\, while sharing tips on how you 
 can look for owls yourself.\n\nGuaranteed to cure Zoom fatigue\, the conte
 nt and format are similar to their in-person presentations and just as eng
 aging. All the owls are legally permitted by state and federal agencies fo
 r use in environmental educational programs.\n\nViewers may purchase copie
 s of Mark’s book\, Owling\, signed and personalized by the author\, by 
 emailing eyesonowls@earthlink.net. Books are available for $18.95 + tax\; 
 $5.00 shipping.\n\n\nThis is a free program\, but donations are encouraged
  to help us bring this program to the community!\n\n\nREGISTER HERE.\n\n&n
 bsp\;\n\nClick on the logo to learn more about Farrington Nature Linc!\n\n
 \n\n\n\n\n\n\n
ATTACH;FMTTYPE=image/jpeg:https://lincolnconservation.org/wp-content/uploa
 ds/2021/03/eyeonowlsbanner.jpg
CATEGORIES:Guided Walk
END:VEVENT
BEGIN:VTIMEZONE
TZID:America/New_York
X-LIC-LOCATION:America/New_York
BEGIN:DAYLIGHT
DTSTART:20210314T030000
TZOFFSETFROM:-0500
TZOFFSETTO:-0400
TZNAME:EDT
END:DAYLIGHT
END:VTIMEZONE
END:VCALENDAR