BEGIN:VCALENDAR
VERSION:2.0
PRODID:-//wp-events-plugin.com//7.2.3.1//EN
TZID:America/New_York
X-WR-TIMEZONE:America/New_York
BEGIN:VEVENT
UID:199@lincolnconservation.org
DTSTART;TZID=America/New_York:20250310T190000
DTEND;TZID=America/New_York:20250310T203000
DTSTAMP:20250211T171059Z
URL:https://lincolnconservation.org/events/safe-rodent-control-forum/
SUMMARY:Safe Rodent Control Forum
DESCRIPTION:A Forum for Safe Rodent Control\n\nHawks\, Owls and other preda
 tors keep Massachusetts’ ecosystems in balance. But in recent years\, sh
 ocking numbers of these iconic creatures have been sickened or killed afte
 r preying on rodents poisoned with second-generation anti-coagulant rodent
 icides (SGARs).  Learn about wildlife-safe pest control approaches and t
 hen use this new knowledge to advocate for an end to rodent poison use in 
 your community.\n\nHeather Packard\, of Mass Audubon's Rescue Raptors prog
 ram will speak. Heather supports community efforts across MA to reduce the
  use of rodenticides. After Heather presents\, hear updates from surroundi
 ng Towns about the current status of rodenticide use in their communities.
 \n\nCo-sponsored by Concord\, Lincoln\, Sudbury\, Wayland\, &amp\; Weston 
 Conservation and Natural Resources Departments\, and LLCT.\n\nThis is a fr
 ee event and all are welcome.\n\nThis is a hybrid event. In-person at the 
 Lincoln Public School's Learning Commons\, located on Ballfield Road AND o
 nline via Zoom. Please register for the event here. \n\n
ATTACH;FMTTYPE=image/jpeg:https://lincolnconservation.org/wp-content/uploa
 ds/2022/07/DSC_0281-2.jpg
CATEGORIES:Special Event
LOCATION:Lincoln Public Schools\, 1 Ballfield Rd\, Lincoln\, MA\, 01773\, U
 nited States
GEO:42.425327;-71.313126
X-APPLE-STRUCTURED-LOCATION;VALUE=URI;X-ADDRESS=1 Ballfield Rd\, Lincoln\, 
 MA\, 01773\, United States;X-APPLE-RADIUS=100;X-TITLE=Lincoln Public Schoo
 ls:geo:42.425327,-71.313126
END:VEVENT
BEGIN:VTIMEZONE
TZID:America/New_York
X-LIC-LOCATION:America/New_York
BEGIN:DAYLIGHT
DTSTART:20250309T030000
TZOFFSETFROM:-0500
TZOFFSETTO:-0400
TZNAME:EDT
END:DAYLIGHT
END:VTIMEZONE
END:VCALENDAR