BEGIN:VCALENDAR
VERSION:2.0
PRODID:-//wp-events-plugin.com//7.2.3.1//EN
TZID:America/New_York
X-WR-TIMEZONE:America/New_York
BEGIN:VEVENT
UID:194@lincolnconservation.org
DTSTART;TZID=America/New_York:20241209T160000
DTEND;TZID=America/New_York:20241209T170000
DTSTAMP:20241121T204238Z
URL:https://lincolnconservation.org/events/seed-paper-workshop/
SUMMARY:Seed Paper Workshop
DESCRIPTION:Lincoln Land Conservation Trust is pleased to host\, in coordin
 ation with Birches School\, a seed paper making workshop on December 9th f
 rom 4-5 pm at Birches School\, 100 Bedford Rd\, Lincoln. This is a free ac
 tivity\, open to the public\, and geared towards children in grades K-4 wi
 th their parents.\n\nParticipants will leave with several sheets of seed p
 aper that can be planted in the garden and will germinate wildflowers in t
 he spring. All the plants provided are native\, pollinator-supporting spec
 ies.\n\nPlease register each child who is participating. Register here. \
 n\n&nbsp\;\n\n
ATTACH;FMTTYPE=image/jpeg:https://lincolnconservation.org/wp-content/uploa
 ds/2024/11/seed-paper-public.png
CATEGORIES:Guided Walk
LOCATION:Birches School\, 100 Bedford Rd\, Lincoln\, MA\, 01773\, United St
 ates
GEO:42.439307;-71.300233
X-APPLE-STRUCTURED-LOCATION;VALUE=URI;X-ADDRESS=100 Bedford Rd\, Lincoln\, 
 MA\, 01773\, United States;X-APPLE-RADIUS=100;X-TITLE=Birches School:geo:4
 2.439307,-71.300233
END:VEVENT
BEGIN:VTIMEZONE
TZID:America/New_York
X-LIC-LOCATION:America/New_York
BEGIN:STANDARD
DTSTART:20241103T010000
TZOFFSETFROM:-0400
TZOFFSETTO:-0500
TZNAME:EST
END:STANDARD
END:VTIMEZONE
END:VCALENDAR