BEGIN:VCALENDAR
VERSION:2.0
PRODID:-//wp-events-plugin.com//7.2.3.1//EN
TZID:America/New_York
X-WR-TIMEZONE:America/New_York
BEGIN:VEVENT
UID:126@lincolnconservation.org
DTSTART;TZID=America/New_York:20230121T140000
DTEND;TZID=America/New_York:20230121T153000
DTSTAMP:20221110T195006Z
URL:https://lincolnconservation.org/events/silent-earth-saving-our-insects
 /
SUMMARY:Silent Earth: Saving Our Insects
DESCRIPTION:Presented by and in partnership with the Massachusetts Pollina
 tor Network\, Lexington Living Landscapes\, Lincoln Land Conservation Tr
 ust and Mass Audubon.\n\nInsects are vital\, fascinating\, weird and won
 derful. They are food\, pollinators\, recyclers\, pest controllers\, and m
 uch more\, so we should be deeply concerned that they are in rapid decline
 . Dave Goulson will explain the many causes of insect decline\, and then t
 urn to the solutions of this crisis. We can all help in many ways\, first 
 by turning our gardens and urban greenspaces into oases for life\, and sec
 ond by fundamentally changing the way we grow food\, and the food we buy.\
 n\nDave Goulson is Professor of Biology at University of Sussex in Englan
 d\, specializing in bee ecology. He has published more than 350 scientific
  articles on the ecology and conservation of bumblebees and other insects\
 , plus seven books\, including the Sunday Times bestsellers A Sting in th
 e Tale (2013)\, The Garden Jungle (2019)\, and Silent Earth: Averting 
 the Insect Apocalypse (2021). Goulson founded the Bumblebee Conservation 
 Trust in 2006\, a charity which has grown to 12\,000 members. In 2015 he w
 as named number 8 in BBC Wildlife Magazine’s list of the top 50 most inf
 luential people in conservation. He is an “Ambassador” for the UK Wild
 life Trusts and president of Pesticide Free Scotland.\n\nThis program is f
 ree and all are welcome. Please register to receive the zoom link. Registe
 r Here. The confirmation and reminder emails will come from  caryprograms
 @minlib.net.\n
ATTACH;FMTTYPE=image/jpeg:https://lincolnconservation.org/wp-content/uploa
 ds/2022/11/B-pratorum-Borage-Haringsma-Copy.jpg
CATEGORIES:Talk
END:VEVENT
BEGIN:VTIMEZONE
TZID:America/New_York
X-LIC-LOCATION:America/New_York
BEGIN:STANDARD
DTSTART:20221106T010000
TZOFFSETFROM:-0400
TZOFFSETTO:-0500
TZNAME:EST
END:STANDARD
END:VTIMEZONE
END:VCALENDAR