BEGIN:VCALENDAR
VERSION:2.0
PRODID:-//wp-events-plugin.com//7.2.3.1//EN
TZID:America/New_York
X-WR-TIMEZONE:America/New_York
BEGIN:VEVENT
UID:116@lincolnconservation.org
DTSTART;TZID=America/New_York:20220424T073000
DTEND;TZID=America/New_York:20220522T093000
DTSTAMP:20220324T164259Z
URL:https://lincolnconservation.org/events/spring-2022-birding-walks/
SUMMARY:Spring 2022 Birding Walks
DESCRIPTION:Spring Birding Walks Return!  Walks are on Sundays from 7:30 A
 .M.-9:30 A.M. \n\nRegistration is required. Please register (below) to re
 ceive reminder emails and weather updates.\n\nWe encourage you to start by
  signing up for just one walk\, to allow more people to enjoy these progra
 ms. If there is still space available\, then we welcome you to sign up for
  more. Please plan to dress warmly. Spring mornings can be cold. Bring bin
 oculars\, and please leave pets at home.\n\nWalk Leaders (There will be at
  least two leaders per walk): Michele Grzenda\, Nancy Hammond\, Norman Lev
 ey\, Gwyn Loud\, Ron McAdow\, and Nancy Soulette.\n\n&nbsp\;\n\nWalk Dates
  and Locations:\n\nApril 24th at Lindentree Farm\n\nMay 1st at Brownings F
 ield\n\nMay 8th at Farm Meadow\n\nMay 22nd at Baker Bridge Fields\n\n&nbsp
 \;\nRegister Here!\n&nbsp\;
ATTACH;FMTTYPE=image/jpeg:https://lincolnconservation.org/wp-content/uploa
 ds/2018/04/birdwalk_bryn-5.jpg
CATEGORIES:Guided Walk
END:VEVENT
BEGIN:VTIMEZONE
TZID:America/New_York
X-LIC-LOCATION:America/New_York
BEGIN:DAYLIGHT
DTSTART:20220313T030000
TZOFFSETFROM:-0500
TZOFFSETTO:-0400
TZNAME:EDT
END:DAYLIGHT
END:VTIMEZONE
END:VCALENDAR