BEGIN:VCALENDAR
VERSION:2.0
PRODID:-//wp-events-plugin.com//7.2.3.1//EN
TZID:America/New_York
X-WR-TIMEZONE:America/New_York
BEGIN:VEVENT
UID:303@lincolnconservation.org
DTSTART;TZID=America/New_York:20260503T073000
DTEND;TZID=America/New_York:20260503T093000
DTSTAMP:20260421T151119Z
URL:https://lincolnconservation.org/events/spring-birding-may-3rd/
SUMMARY:Spring Birding: May 3rd
DESCRIPTION:Join LLCT's Spring Birding walks. Learn to identify birds by si
 ght and song at some of Lincoln’s birding “hot spots.” Dress for wea
 ther conditions\, including wet grass and cool morning temperatures. Pleas
 e bring binoculars\, if you have them! No pets.\n\nWalks take place on Sun
 day or Saturday mornings from 7:30 A.M.-9:30 A.M.\n\nAt least two of the f
 ollowing local birding experts will lead each walk: Norman Levey\, Gwyn Lo
 ud\, Michele Grzenda\, Mathias Bitter\, Pam Sowizral\, Nancy Soulette.\n\n
 Free\, all are welcome. Space is limited so please register in advance. Re
 gister for each walk individually. If you can't make the walk\, please rem
 ove your RSVP. Questions? Email us at llct@lincolnconservation.org.\n\nDet
 ailed parking information and weather updates emailed to registered partic
 ipants.\n\nRegister here. Use the spreadsheet tabs to sign up for differen
 t walks.\n\nSun. May 3rd\, Stony Brook &amp\; Harrington\nSun. May 10th\, 
 Lindentree &amp\; West of St. Anne's\nSun. May 17th\, Food Project fields 
 &amp\; Baker Bridge North\nSat. May 30th\, Drumlin Farm\nSun. June 14th\, 
 Farm Meadow
ATTACH;FMTTYPE=image/jpeg:https://lincolnconservation.org/wp-content/uploa
 ds/2018/04/birdwalk_bryn-5.jpg
CATEGORIES:Guided Walk
END:VEVENT
BEGIN:VTIMEZONE
TZID:America/New_York
X-LIC-LOCATION:America/New_York
BEGIN:DAYLIGHT
DTSTART:20260308T030000
TZOFFSETFROM:-0500
TZOFFSETTO:-0400
TZNAME:EDT
END:DAYLIGHT
END:VTIMEZONE
END:VCALENDAR