BEGIN:VCALENDAR
VERSION:2.0
PRODID:-//wp-events-plugin.com//7.2.3.1//EN
TZID:America/New_York
X-WR-TIMEZONE:America/New_York
BEGIN:VEVENT
UID:268@lincolnconservation.org
DTSTART;TZID=America/New_York;VALUE=DATE:20250930
DTEND;TZID=America/New_York;VALUE=DATE:20251001
DTSTAMP:20250819T184634Z
URL:https://lincolnconservation.org/events/student-sticker-design-contest-
 2025/
SUMMARY:Student Sticker Design Contest 2025
DESCRIPTION:Join us in celebrating nature in Lincoln and you could win gift
  cards and other prizes. The winning designs will be printed on hundreds o
 f stickers! Open to students of all ages who live or attend school in Linc
 oln\, MA.\n\nInstructions:\n\n 	Download and print this entry sheet\n 	 D
 raw your design in the circle\n 	Your design must include “LLCT” or 
 “Lincoln Land Conservation Trust.”\n 	Show wildlife\, plants\, or land
 scapes from Lincoln.\n 	Keep it bold and simple—stickers will be printed
  about 3 inches wide!\n 	Submit your sheet to P.O. Box 10\, Lincoln\, MA 0
 1773 or email a scan to llct@lincolnconservation.org\n\nDeadline: Septembe
 r 30th\, 2025. Winners will be selected in October.
ATTACH;FMTTYPE=image/jpeg:https://lincolnconservation.org/wp-content/uploa
 ds/2025/07/monarch-bg-web.jpg
CATEGORIES:Special Event
END:VEVENT
BEGIN:VTIMEZONE
TZID:America/New_York
X-LIC-LOCATION:America/New_York
BEGIN:DAYLIGHT
DTSTART:20250309T030000
TZOFFSETFROM:-0500
TZOFFSETTO:-0400
TZNAME:EDT
END:DAYLIGHT
END:VTIMEZONE
END:VCALENDAR