BEGIN:VCALENDAR
VERSION:2.0
PRODID:-//wp-events-plugin.com//7.2.3.1//EN
TZID:America/New_York
X-WR-TIMEZONE:America/New_York
BEGIN:VEVENT
UID:76@lincolnconservation.org
DTSTART;TZID=America/New_York:20210112T190000
DTEND;TZID=America/New_York:20210112T200000
DTSTAMP:20201229T135452Z
URL:https://lincolnconservation.org/events/zoom-fireside-chat-with-robin-w
 ilkerson-ecological-gardening/
SUMMARY:Zoom Fireside Chat with Robin Wilkerson: Ecological Gardening
DESCRIPTION:Join Robin Wilkerson for a conversation about ecological garden
 ing. Robin will share her expertise about how we can do our part to restor
 e native habitat. Get tips on plants to add to your garden that not only e
 nhance the aesthetics of the garden but also provide valuable nourishment 
 and shelter for all the creatures therein.\n\nAfter Robin’s remarks\, th
 ere will be time for questions and conversation. Free. Open to All. Regist
 ration required. Register here.\n\n&nbsp\;\n\n\n\nAbout Robin\n\nRobin has
  been cultivating her garden in Lincoln for more than 30 years. What was f
 irst a tangle of invasive plants\, is now a beautiful garden\, including a
  woodland area and a vegetable garden. Over the years\, Robin’s focus ha
 s shifted towards more and more native and pollinator-friendly plants. Her
  lawn continues to shrink with each additional plant!
ATTACH;FMTTYPE=image/jpeg:https://lincolnconservation.org/wp-content/uploa
 ds/2020/12/winter-garden.png
CATEGORIES:Guided Walk
END:VEVENT
BEGIN:VTIMEZONE
TZID:America/New_York
X-LIC-LOCATION:America/New_York
BEGIN:STANDARD
DTSTART:20201101T010000
TZOFFSETFROM:-0400
TZOFFSETTO:-0500
TZNAME:EST
END:STANDARD
END:VTIMEZONE
END:VCALENDAR